BEGIN:VCALENDAR
VERSION:2.0
PRODID:-// - ECPv6.10.2//NONSGML v1.0//EN
CALSCALE:GREGORIAN
METHOD:PUBLISH
X-ORIGINAL-URL:https://www.saggener.at
X-WR-CALDESC:Veranstaltungen für 
REFRESH-INTERVAL;VALUE=DURATION:PT1H
X-Robots-Tag:noindex
X-PUBLISHED-TTL:PT1H
BEGIN:VTIMEZONE
TZID:UTC
BEGIN:STANDARD
TZOFFSETFROM:+0000
TZOFFSETTO:+0000
TZNAME:UTC
DTSTART:20260101T000000
END:STANDARD
END:VTIMEZONE
BEGIN:VEVENT
DTSTART;VALUE=DATE:20260630
DTEND;VALUE=DATE:20260701
DTSTAMP:20260421T102303
CREATED:20260124T131225Z
LAST-MODIFIED:20260124T131225Z
UID:1947-1782777600-1782863999@www.saggener.at
SUMMARY:Bogenfest
DESCRIPTION:
URL:https://www.saggener.at/termine/bogenfest-2/
LOCATION:Bogenfest\, Zeughausgasse 2\, Innsbruck\, Tirol\, 6020
END:VEVENT
BEGIN:VEVENT
DTSTART;TZID=UTC:20260705T080000
DTEND;TZID=UTC:20260705T120000
DTSTAMP:20260421T102303
CREATED:20260413T171404Z
LAST-MODIFIED:20260413T171404Z
UID:1969-1783238400-1783252800@www.saggener.at
SUMMARY:Bezirksmusikfest Innsbruck-Stadt
DESCRIPTION:
URL:https://www.saggener.at/termine/bezirksmusikfest-innsbruck-stadt/
LOCATION:Olympiapark
END:VEVENT
BEGIN:VEVENT
DTSTART;TZID=UTC:20260808T110000
DTEND;TZID=UTC:20260808T123000
DTSTAMP:20260421T102303
CREATED:20260413T171459Z
LAST-MODIFIED:20260413T171459Z
UID:1972-1786186800-1786192200@www.saggener.at
SUMMARY:Tourismuskonzert
DESCRIPTION:
URL:https://www.saggener.at/termine/tourismuskonzert-2/
LOCATION:Bozner Platz
END:VEVENT
BEGIN:VEVENT
DTSTART;TZID=UTC:20261122T100000
DTEND;TZID=UTC:20261122T120000
DTSTAMP:20260421T102303
CREATED:20260124T131412Z
LAST-MODIFIED:20260124T131412Z
UID:1952-1795341600-1795348800@www.saggener.at
SUMMARY:Cäcilia
DESCRIPTION:
URL:https://www.saggener.at/termine/caecilia-2/
LOCATION:Pfarre Saggen\, Sennstraße 5\, Innsbruck\, Tirol\, 6020
END:VEVENT
BEGIN:VEVENT
DTSTART;TZID=UTC:20261122T120000
DTEND;TZID=UTC:20261122T140000
DTSTAMP:20260421T102303
CREATED:20260124T131543Z
LAST-MODIFIED:20260124T131543Z
UID:1957-1795348800-1795356000@www.saggener.at
SUMMARY:Jahreshauptversammlung
DESCRIPTION:
URL:https://www.saggener.at/termine/jahreshauptversammlung/
LOCATION:Tirol
END:VEVENT
END:VCALENDAR